BEGIN:VCALENDAR
VERSION:2.0
PRODID:-//Hervormd Rouveen Staphorst - ECPv6.14.1//NONSGML v1.0//EN
CALSCALE:GREGORIAN
METHOD:PUBLISH
X-ORIGINAL-URL:https://hervormdrouveenstaphorst.nl
X-WR-CALDESC:Evenementen voor Hervormd Rouveen Staphorst
REFRESH-INTERVAL;VALUE=DURATION:PT1H
X-Robots-Tag:noindex
X-PUBLISHED-TTL:PT1H
BEGIN:VTIMEZONE
TZID:Europe/Amsterdam
BEGIN:DAYLIGHT
TZOFFSETFROM:+0100
TZOFFSETTO:+0200
TZNAME:CEST
DTSTART:20260329T010000
END:DAYLIGHT
BEGIN:STANDARD
TZOFFSETFROM:+0200
TZOFFSETTO:+0100
TZNAME:CET
DTSTART:20261025T010000
END:STANDARD
END:VTIMEZONE
BEGIN:VEVENT
DTSTART;TZID=Europe/Amsterdam:20260426T093000
DTEND;TZID=Europe/Amsterdam:20260426T110000
DTSTAMP:20260422T140158
CREATED:20260305T213445Z
LAST-MODIFIED:20260305T213617Z
UID:12226-1777195800-1777201200@hervormdrouveenstaphorst.nl
SUMMARY:Ds. A.P. Pors - Belijdenisdienst
DESCRIPTION:
URL:https://hervormdrouveenstaphorst.nl/agenda/ds-a-p-pors-belijdenisdienst/
LOCATION:Hervormde Kerk\, Oude Rijksweg 443\, Rouveen\, Overijssel\, 7954 GJ\, Nederland
CATEGORIES:Kerkdiensten
END:VEVENT
BEGIN:VEVENT
DTSTART;TZID=Europe/Amsterdam:20260426T093000
DTEND;TZID=Europe/Amsterdam:20260426T110000
DTSTAMP:20260422T140158
CREATED:20260305T213807Z
LAST-MODIFIED:20260412T170409Z
UID:12232-1777195800-1777201200@hervormdrouveenstaphorst.nl
SUMMARY:Ds. H.A. Samson\, Harderwijk
DESCRIPTION:
URL:https://hervormdrouveenstaphorst.nl/agenda/ds-f-j-k-van-santen-leusden/
LOCATION:Hervormd Dienstgebouw\, Oude Rijksweg 450\, Rouveen\, Overijssel\, 7954 GD\, Nederland
CATEGORIES:Kerkdiensten
END:VEVENT
BEGIN:VEVENT
DTSTART;TZID=Europe/Amsterdam:20260426T140000
DTEND;TZID=Europe/Amsterdam:20260426T153000
DTSTAMP:20260422T140158
CREATED:20260305T213726Z
LAST-MODIFIED:20260305T213728Z
UID:12230-1777212000-1777217400@hervormdrouveenstaphorst.nl
SUMMARY:Ds. B. Coster
DESCRIPTION:
URL:https://hervormdrouveenstaphorst.nl/agenda/ds-b-coster/
LOCATION:Hervormde Kerk\, Oude Rijksweg 443\, Rouveen\, Overijssel\, 7954 GJ\, Nederland
CATEGORIES:Kerkdiensten
END:VEVENT
BEGIN:VEVENT
DTSTART;TZID=Europe/Amsterdam:20260426T140000
DTEND;TZID=Europe/Amsterdam:20260426T153000
DTSTAMP:20260422T140158
CREATED:20260305T213845Z
LAST-MODIFIED:20260305T213847Z
UID:12234-1777212000-1777217400@hervormdrouveenstaphorst.nl
SUMMARY:Ds. F. Pierik\, Drachten
DESCRIPTION:
URL:https://hervormdrouveenstaphorst.nl/agenda/ds-f-pierik-drachten/
LOCATION:Hervormd Dienstgebouw\, Oude Rijksweg 450\, Rouveen\, Overijssel\, 7954 GD\, Nederland
CATEGORIES:Kerkdiensten
END:VEVENT
END:VCALENDAR