BEGIN:VCALENDAR
VERSION:2.0
PRODID:-//Hervormd Rouveen Staphorst - ECPv6.14.1//NONSGML v1.0//EN
CALSCALE:GREGORIAN
METHOD:PUBLISH
X-ORIGINAL-URL:https://hervormdrouveenstaphorst.nl
X-WR-CALDESC:Evenementen voor Hervormd Rouveen Staphorst
REFRESH-INTERVAL;VALUE=DURATION:PT1H
X-Robots-Tag:noindex
X-PUBLISHED-TTL:PT1H
BEGIN:VTIMEZONE
TZID:Europe/Amsterdam
BEGIN:DAYLIGHT
TZOFFSETFROM:+0100
TZOFFSETTO:+0200
TZNAME:CEST
DTSTART:20260329T010000
END:DAYLIGHT
BEGIN:STANDARD
TZOFFSETFROM:+0200
TZOFFSETTO:+0100
TZNAME:CET
DTSTART:20261025T010000
END:STANDARD
END:VTIMEZONE
BEGIN:VEVENT
DTSTART;TZID=Europe/Amsterdam:20260419T140000
DTEND;TZID=Europe/Amsterdam:20260419T153000
DTSTAMP:20260420T103604
CREATED:20260305T213354Z
LAST-MODIFIED:20260416T181435Z
UID:12224-1776607200-1776612600@hervormdrouveenstaphorst.nl
SUMMARY:Ds. C. Baan\, Windesheim
DESCRIPTION:•	Welkom en mededelingen \n\n\n\n•	Intochtslied Psalm 2: 4 & 7 \n\n\n\n •	Stil gebed•	Votum en Groet \n\n\n\n•	Psalm 84: 1 •	Geloofsbelijdenis \n\n\n\n•	Psalm 103: 1& 10  \n\n\n\n•	Gebed om de opening van het woord en de verlichting van de Heilige Geest. \n\n\n\n•	Schriftlezing Openbaring 1: 9 – 18  (uit de HSV) \n\n\n\n•	Psalm  95: 1 & 4  \n\n\n\n•	Preek \n\n\n\n•	Psalm 34: 2 & 11  \n\n\n\n•	Dankgebed  \n\n\n\n•	Slotlied Psalm 150: 1 & 3 \n\n\n\n•	Zegen
URL:https://hervormdrouveenstaphorst.nl/agenda/ds-m-krooneman-urk/
LOCATION:Hervormd Dienstgebouw\, Oude Rijksweg 450\, Rouveen\, Overijssel\, 7954 GD\, Nederland
CATEGORIES:Kerkdiensten
END:VEVENT
BEGIN:VEVENT
DTSTART;TZID=Europe/Amsterdam:20260419T140000
DTEND;TZID=Europe/Amsterdam:20260419T153000
DTSTAMP:20260420T103604
CREATED:20260305T213235Z
LAST-MODIFIED:20260417T141355Z
UID:12220-1776607200-1776612600@hervormdrouveenstaphorst.nl
SUMMARY:Ds. A.P. Pors
DESCRIPTION:Voorzang: Psalm 2: 4 en 7  \n\n\n\nPsalm 92: 1 en 2 \n\n\n\nNa geloofsbelijdenis: psalm 37: 2 \n\n\n\nSchriftlezing: 1 Korinthe 15: 12-20 \n\n\n\nPsalm 130: 3 en 4 \n\n\n\nPsalm 73: 12 en 13 \n\n\n\nPsalm 36: 2 en 3
URL:https://hervormdrouveenstaphorst.nl/agenda/ds-a-p-pors-11/
LOCATION:Hervormde Kerk\, Oude Rijksweg 443\, Rouveen\, Overijssel\, 7954 GJ\, Nederland
CATEGORIES:Kerkdiensten
END:VEVENT
BEGIN:VEVENT
DTSTART;TZID=Europe/Amsterdam:20260419T093000
DTEND;TZID=Europe/Amsterdam:20260419T110000
DTSTAMP:20260420T103604
CREATED:20260305T213315Z
LAST-MODIFIED:20260417T141253Z
UID:12222-1776591000-1776596400@hervormdrouveenstaphorst.nl
SUMMARY:Ds. A.P. Pors
DESCRIPTION:Voorzang: psalm 105: 1 en 5 \n\n\n\nPsalm 92: 1 en 2 \n\n\n\nNa wet: psalm 119: 53 \n\n\n\nSchriftlezing: 1 Korinthe 15: 12-20 \n\n\n\nPsalm 130: 3 en 4 \n\n\n\nPsalm 73: 12 en 13 \n\n\n\nPsalm 36: 2 en 3
URL:https://hervormdrouveenstaphorst.nl/agenda/ds-a-p-pors-12/
LOCATION:Hervormd Dienstgebouw\, Oude Rijksweg 450\, Rouveen\, Overijssel\, 7954 GD\, Nederland
CATEGORIES:Kerkdiensten
END:VEVENT
BEGIN:VEVENT
DTSTART;TZID=Europe/Amsterdam:20260419T093000
DTEND;TZID=Europe/Amsterdam:20260419T110000
DTSTAMP:20260420T103604
CREATED:20260305T213142Z
LAST-MODIFIED:20260416T195011Z
UID:12218-1776591000-1776596400@hervormdrouveenstaphorst.nl
SUMMARY:Ds. R. Duiker - Belijdenisdienst
DESCRIPTION:Voorzang: Psalm 84 vers 1 en 2 \n\n\n\nPsalm 116 vers 1 en 3 \n\n\n\nPsalm 119 vers 3 \n\n\n\nSchriftlezing: Galaten 5 vers 1-12 \n\n\n\nPsalm 146 vers 5 en 6 \n\n\n\nWeerklank 445 vers 1\, 2 en 3 \n\n\n\nDe nieuwe leden zingen: Psalm 17 vers 3. \n\n\n\nWij zingen toe (gewijzigd) Psalm 17 vers 4 \n\n\n\nWeerklank 267 vers 1\, 2\, 5 en 6
URL:https://hervormdrouveenstaphorst.nl/agenda/ds-r-duiker-10/
LOCATION:Hervormde Kerk\, Oude Rijksweg 443\, Rouveen\, Overijssel\, 7954 GJ\, Nederland
CATEGORIES:Kerkdiensten
END:VEVENT
BEGIN:VEVENT
DTSTART;TZID=Europe/Amsterdam:20260418T000000
DTEND;TZID=Europe/Amsterdam:20260418T235959
DTSTAMP:20260420T103604
CREATED:20260330T085825Z
LAST-MODIFIED:20260330T085828Z
UID:12328-1776470400-1776556799@hervormdrouveenstaphorst.nl
SUMMARY:Verschijning 'Ons Kerkblad'
DESCRIPTION:Inleveren kopij voor “Ons Kerkblad” \n\n\n\nKopij voor het nummer van “Ons Kerkblad” dat zal verschijnen op D.V. zaterdag 18 april\, kunt u mailen naar of inleveren bij oud. Dick Roo\, Kievit 2\, tot uiterlijk vrijdag 10 april 18.00 uur. Dit zal een kerkblad zijn voor een periode van drie weken. Het eerstvolgende nummer verschijnt op 9 mei. \n\n\n\nE-mail: dickroo@hervormdrouveenstaphorst.nl
URL:https://hervormdrouveenstaphorst.nl/agenda/verschijning-ons-kerkblad-2/
CATEGORIES:Agenda
END:VEVENT
BEGIN:VEVENT
DTSTART;TZID=Europe/Amsterdam:20260415T140000
DTEND;TZID=Europe/Amsterdam:20260415T163000
DTSTAMP:20260420T103604
CREATED:20260330T090128Z
LAST-MODIFIED:20260330T090130Z
UID:12332-1776261600-1776270600@hervormdrouveenstaphorst.nl
SUMMARY:Seniorencontactmiddag
DESCRIPTION:Seniorencontactmiddag \n\n\n\nD.V. 15 april zal alweer de laatste middag van dit seizoen zijn. Deze middag zal mevr. Corrie Slingerland ons iets laten zien en horen over het Shaare Zedek ziekenhuis. Het Shaare Zedek Medical Center is een groot academisch ziekenhuis in Jeruzalem. Het staat middenin de branding van de oorlog\, echt als een rots in de branding. Door de oorlog is er ook een afdeling ondergronds bijgekomen. Het ziekenhuis bestaat al vanaf 1902 (124 jaar). Het is een Joods ziekenhuis \,met als drijfveer dat ieder mens naar Gods beeld geschapen is. Het is een pro-life ziekenhuis\, voor Jood en Arabier\, niemand uitgezonderd. \n\n\n\nHet is de moeite waard om te komen luisteren en kijken! U bent van harte welkom op deze middag! \n\n\n\nTijd                 : 14:00 uur (inloop 13:45 uur); Waar              : Dienstgebouw (ORW 450)Wanneer       : Woensdag 15 april \n\n\n\nAls vervoer een probleem voor u is\, dan kunt u bellen met dhr. Jan de Witte (06-11586689). En dan wordt het vervoer geregeld! U kunt zich deze middag ook nog opgeven voor het reisje van D.V. 27 mei. Hartelijke groeten en tot ziens\, \n\n\n\nde commissie
URL:https://hervormdrouveenstaphorst.nl/agenda/seniorencontactmiddag/
CATEGORIES:Agenda
END:VEVENT
BEGIN:VEVENT
DTSTART;TZID=Europe/Amsterdam:20260414T080000
DTEND;TZID=Europe/Amsterdam:20260414T210000
DTSTAMP:20260420T103604
CREATED:20260327T084109Z
LAST-MODIFIED:20260327T084110Z
UID:12308-1776153600-1776200400@hervormdrouveenstaphorst.nl
SUMMARY:Bloemschikken
DESCRIPTION:Zin in een gezellige ochtend of avond bloemschikken? Geef je snel op! Vol=vol! Wanneer\, waar\, wat meenemen? Zie flyer voor meer info!
URL:https://hervormdrouveenstaphorst.nl/agenda/bloemschikken/
LOCATION:Hervormd Dienstgebouw\, Oude Rijksweg 450\, Rouveen\, Overijssel\, 7954 GD\, Nederland
CATEGORIES:Agenda
END:VEVENT
BEGIN:VEVENT
DTSTART;TZID=Europe/Amsterdam:20260412T140000
DTEND;TZID=Europe/Amsterdam:20260412T153000
DTSTAMP:20260420T103604
CREATED:20260305T213019Z
LAST-MODIFIED:20260410T111334Z
UID:12214-1776002400-1776007800@hervormdrouveenstaphorst.nl
SUMMARY:Ds. R. Duiker
DESCRIPTION:Middag (kerk) \n\n\n\nVoorzang: 1:1\, 2 \n\n\n\n25: 7 \n\n\n\n103: 9 \n\n\n\n130: 2\, 4 \n\n\n\n61: 3\, 4 \n\n\n\n146: 1\, 8 \n\n\n\nSchriftlezingen \n\n\n\nJohannes 20: 24-31 \n\n\n\nLeerdienst over zondag 25
URL:https://hervormdrouveenstaphorst.nl/agenda/ds-r-duiker-8/
LOCATION:Hervormde Kerk\, Oude Rijksweg 443\, Rouveen\, Overijssel\, 7954 GJ\, Nederland
CATEGORIES:Kerkdiensten
END:VEVENT
BEGIN:VEVENT
DTSTART;TZID=Europe/Amsterdam:20260412T140000
DTEND;TZID=Europe/Amsterdam:20260412T153000
DTSTAMP:20260420T103604
CREATED:20260305T212937Z
LAST-MODIFIED:20260410T110946Z
UID:12212-1776002400-1776007800@hervormdrouveenstaphorst.nl
SUMMARY:Ds. A.P. Pors
DESCRIPTION:Middag\, DGB: \n\n\n\nPsalm 25: 6 en 7 \n\n\n\nVoorzang: Psalm 1: 1 en 2 \n\n\n\nPsalm 122: 1 en 2 \n\n\n\nNa gel.bel.: Psalm 36: 3 \n\n\n\nSchriftlezing: Johannes 21: 1-19 \n\n\n\nPsalm 27: 1 en 3 \n\n\n\nPsalm 116: 1\, 3 en 10
URL:https://hervormdrouveenstaphorst.nl/agenda/ds-a-p-pors-10/
LOCATION:Hervormd Dienstgebouw\, Oude Rijksweg 450\, Rouveen\, Overijssel\, 7954 GD\, Nederland
CATEGORIES:Kerkdiensten
END:VEVENT
BEGIN:VEVENT
DTSTART;TZID=Europe/Amsterdam:20260412T093000
DTEND;TZID=Europe/Amsterdam:20260412T110000
DTSTAMP:20260420T103604
CREATED:20260305T213100Z
LAST-MODIFIED:20260410T111025Z
UID:12216-1775986200-1775991600@hervormdrouveenstaphorst.nl
SUMMARY:Ds. R. Duiker
DESCRIPTION:Morgen (Dienstgebouw) \n\n\n\nVoorzang: 54: 1\, 4 \n\n\n\n25: 7 \n\n\n\n103: 9 \n\n\n\n130: 2\, 4 \n\n\n\n61: 3\, 4 \n\n\n\n146: 1\, 8 \n\n\n\nSchriftlezingen \n\n\n\nJohannes 20: 24-31
URL:https://hervormdrouveenstaphorst.nl/agenda/ds-r-duiker-9/
LOCATION:Hervormd Dienstgebouw\, Oude Rijksweg 450\, Rouveen\, Overijssel\, 7954 GD\, Nederland
CATEGORIES:Kerkdiensten
END:VEVENT
BEGIN:VEVENT
DTSTART;TZID=Europe/Amsterdam:20260412T093000
DTEND;TZID=Europe/Amsterdam:20260412T110000
DTSTAMP:20260420T103604
CREATED:20260305T212858Z
LAST-MODIFIED:20260410T110904Z
UID:12210-1775986200-1775991600@hervormdrouveenstaphorst.nl
SUMMARY:Ds. A.P. Pors
DESCRIPTION:Voorzang: Psalm 54: 1 en 4 \n\n\n\nPsalm 122: 1 en 2 \n\n\n\nNa wet: Weerklank lied 366: 1 \n\n\n\nSchriftlezing: Johannes 21: 1-19 \n\n\n\nWeerklank lied 58: 1\, 2\, 3 en 4 \n\n\n\nPsalm 116: 1\, 3 en 10 \n\n\n\nPsalm 25: 6 en 7
URL:https://hervormdrouveenstaphorst.nl/agenda/ds-a-p-pors-9/
LOCATION:Hervormde Kerk\, Oude Rijksweg 443\, Rouveen\, Overijssel\, 7954 GJ\, Nederland
CATEGORIES:Kerkdiensten
END:VEVENT
BEGIN:VEVENT
DTSTART;TZID=Europe/Amsterdam:20260406T093000
DTEND;TZID=Europe/Amsterdam:20260406T110000
DTSTAMP:20260420T103604
CREATED:20260305T212808Z
LAST-MODIFIED:20260403T155610Z
UID:12208-1775467800-1775473200@hervormdrouveenstaphorst.nl
SUMMARY:Ds. A. v.d. Stoep\, Wapenveld
DESCRIPTION:Schriftlezingen: Johannes 20:1-18 en 1 Korinthe 15:1-11 \n\n\n\nThema: Verschenen! (n.a.v. de lezing uit 1 Kor.15) \n\n\n\nZingen:  \n\n\n\nVoorzang Psalm vers 2 en 11Psalm 21 vers 4 en 5 \n\n\n\nPsalm 118 vers 8 \n\n\n\nPsalm 16 vers 5 en 6 \n\n\n\nPsalm 56 vers 5 en 6 \n\n\n\nPsalm 68 vers 10
URL:https://hervormdrouveenstaphorst.nl/agenda/ds-a-v-d-stoep-wapenveld/
LOCATION:Hervormd Dienstgebouw\, Oude Rijksweg 450\, Rouveen\, Overijssel\, 7954 GD\, Nederland
CATEGORIES:Kerkdiensten
END:VEVENT
BEGIN:VEVENT
DTSTART;TZID=Europe/Amsterdam:20260406T093000
DTEND;TZID=Europe/Amsterdam:20260406T110000
DTSTAMP:20260420T103604
CREATED:20260305T212734Z
LAST-MODIFIED:20260305T212735Z
UID:12206-1775467800-1775473200@hervormdrouveenstaphorst.nl
SUMMARY:Ds. A.P. Pors - zangdienst
DESCRIPTION:
URL:https://hervormdrouveenstaphorst.nl/agenda/ds-a-p-pors-zangdienst/
LOCATION:Hervormde Kerk\, Oude Rijksweg 443\, Rouveen\, Overijssel\, 7954 GJ\, Nederland
CATEGORIES:Kerkdiensten
END:VEVENT
BEGIN:VEVENT
DTSTART;TZID=Europe/Amsterdam:20260405T140000
DTEND;TZID=Europe/Amsterdam:20260405T153000
DTSTAMP:20260420T103604
CREATED:20260305T212622Z
LAST-MODIFIED:20260403T102345Z
UID:12204-1775397600-1775403000@hervormdrouveenstaphorst.nl
SUMMARY:Ds. R. Duiker
DESCRIPTION:Orde van dienst 1e paasdagmiddag \n\n\n\nVoorzang 68: 2\, 5 \n\n\n\nPsalm 9: 1\, 2 \n\n\n\nPsalm 9: 11 \n\n\n\nPsalm 12: 6\, 7 \n\n\n\nPsalm 111: 3\, 5 \n\n\n\nPsalm 108: 2 \n\n\n\nSchriftlezing: Johannes 20:1-18
URL:https://hervormdrouveenstaphorst.nl/agenda/ds-r-duiker-7/
LOCATION:Hervormd Dienstgebouw\, Oude Rijksweg 450\, Rouveen\, Overijssel\, 7954 GD\, Nederland
CATEGORIES:Kerkdiensten
END:VEVENT
BEGIN:VEVENT
DTSTART;TZID=Europe/Amsterdam:20260405T140000
DTEND;TZID=Europe/Amsterdam:20260405T153000
DTSTAMP:20260420T103604
CREATED:20260305T212447Z
LAST-MODIFIED:20260403T103651Z
UID:12200-1775397600-1775403000@hervormdrouveenstaphorst.nl
SUMMARY:Ds. A.P. Pors - Doopdienst
DESCRIPTION:Middagdienst:  \n\n\n\n \n\n\n\nVoorzang: Psalm 68: 2 en 5 \n\n\n\nPsalm 133: 1\, 2 en 3 \n\n\n\nNa geloofsbelijdenis: Psalm 23: 1 \n\n\n\nPsalm 105: 5 \n\n\n\nPsalm 134: 3 (toezingen van de drie dopelingen en doopouders) \n\n\n\nSchriftlezing: Lukas 24: 1-12 \n\n\n\nPsalm 19: 6 \n\n\n\nPsalm 52: 7
URL:https://hervormdrouveenstaphorst.nl/agenda/ds-a-p-pors-doopdienst/
LOCATION:Hervormde Kerk\, Oude Rijksweg 443\, Rouveen\, Overijssel\, 7954 GJ\, Nederland
CATEGORIES:Kerkdiensten
END:VEVENT
BEGIN:VEVENT
DTSTART;TZID=Europe/Amsterdam:20260405T093000
DTEND;TZID=Europe/Amsterdam:20260405T110000
DTSTAMP:20260420T103604
CREATED:20260305T212533Z
LAST-MODIFIED:20260403T102438Z
UID:12202-1775381400-1775386800@hervormdrouveenstaphorst.nl
SUMMARY:Ds. A.P. Pors
DESCRIPTION:Ochtenddienst: \n\n\n\n\nVoorzang volgens reeds doorgestuurde liturgie\n\n\n\nPsalm 72: 10 en 11\n\n\n\nNa wet: psalm 27: 1\n\n\n\nSchriftlezing: Lukas 24: 1-12\n\n\n\n Psalm 135: 2 en 3\n\n\n\nPsalm 52: 7\n\n\n\nPsalm 21: 4 en 5
URL:https://hervormdrouveenstaphorst.nl/agenda/ds-a-p-pors-7/
LOCATION:Hervormd Dienstgebouw\, Oude Rijksweg 450\, Rouveen\, Overijssel\, 7954 GD\, Nederland
CATEGORIES:Kerkdiensten
END:VEVENT
BEGIN:VEVENT
DTSTART;TZID=Europe/Amsterdam:20260405T093000
DTEND;TZID=Europe/Amsterdam:20260405T110000
DTSTAMP:20260420T103604
CREATED:20260305T212401Z
LAST-MODIFIED:20260403T102314Z
UID:12198-1775381400-1775386800@hervormdrouveenstaphorst.nl
SUMMARY:Ds. R. Duiker - Eerste Paasdag
DESCRIPTION:Orde van dienst 1e paasdagmorgen \n\n\n\nVoor de dienst WK 181: 1\, 4 en 6Nu is het Pasen\, Jezus leeftWK 169: 1De Zoon van God heeft overwonnenOTH 108: 1\, 2\, 3 en 4Daar juicht een toon\, ..Psalm 118: 12 \n\n\n\nOTH 437 Weet je dat de lente komt (geheel) \n\n\n\nWetslezing ivm Pasen: Filippenzen 2: 1-11 \n\n\n\nPsalm 11: 3\, 4 \n\n\n\nPsalm 12: 6\, 7 \n\n\n\nOTH 202 Liefde was het\, onuitputt’lijk (geheel) \n\n\n\nPsalm 9: 1\, 2 \n\n\n\nNa de dienst OTH 129: 1\, 2 en 3U zij de glorie\n\n\n\nSchriftlezing: Johannes 20:1-18
URL:https://hervormdrouveenstaphorst.nl/agenda/ds-r-duiker-eerste-paasdag/
LOCATION:Hervormde Kerk\, Oude Rijksweg 443\, Rouveen\, Overijssel\, 7954 GJ\, Nederland
CATEGORIES:Kerkdiensten
END:VEVENT
BEGIN:VEVENT
DTSTART;TZID=Europe/Amsterdam:20260404T000000
DTEND;TZID=Europe/Amsterdam:20260404T235959
DTSTAMP:20260420T103604
CREATED:20260316T063849Z
LAST-MODIFIED:20260316T063851Z
UID:12278-1775260800-1775347199@hervormdrouveenstaphorst.nl
SUMMARY:Verschijning 'Ons Kerkblad"
DESCRIPTION:Inleveren kopij voor “Ons Kerkblad” \n\n\n\nKopij voor het nummer van “Ons Kerkblad” dat zal verschijnen op D.V. zaterdag 4 april\, kunt u mailen naar of inleveren bij oud. Dick Roo\, Kievit 2\, tot uiterlijk vrijdag 27 maart 18.00 uur. \n\n\n\nE-mail: dickroo@hervormdrouveenstaphorst.nl
URL:https://hervormdrouveenstaphorst.nl/agenda/verschijning-ons-kerkblad/
CATEGORIES:Agenda
END:VEVENT
BEGIN:VEVENT
DTSTART;TZID=Europe/Amsterdam:20260403T193000
DTEND;TZID=Europe/Amsterdam:20260403T210000
DTSTAMP:20260420T103604
CREATED:20260305T212258Z
LAST-MODIFIED:20260403T102110Z
UID:12196-1775244600-1775250000@hervormdrouveenstaphorst.nl
SUMMARY:Ds. R. Duiker
DESCRIPTION:Voorzang 69: 3\, 4 \n\n\n\nPsalm 22: 14\, 16 \n\n\n\nGeloofsbelijdenis Zondag 12 \n\n\n\n\nhttps://www.heidelbergse-catechismus.nl/verlossing/zondag-12\n\n\n\n\nPsalm 40: 4 \n\n\n\nPsalm 31: 4\, 12 \n\n\n\nLofzang van Maria 4\, 5\, 7 \n\n\n\nPsalm 85: 4 \n\n\n\nJohannes 18: 28-19:16
URL:https://hervormdrouveenstaphorst.nl/agenda/ds-r-duiker-6/
LOCATION:Hervormde Kerk\, Oude Rijksweg 443\, Rouveen\, Overijssel\, 7954 GJ\, Nederland
CATEGORIES:Kerkdiensten
END:VEVENT
BEGIN:VEVENT
DTSTART;TZID=Europe/Amsterdam:20260403T093000
DTEND;TZID=Europe/Amsterdam:20260403T110000
DTSTAMP:20260420T103604
CREATED:20260305T212206Z
LAST-MODIFIED:20260403T102015Z
UID:12194-1775208600-1775214000@hervormdrouveenstaphorst.nl
SUMMARY:Ds. A.P. Pors - Goede Vrijdag
DESCRIPTION:Voorzang: psalm 69: 1 en 2 \n\n\n\nPsalm 22: 1 en 3 \n\n\n\nGeloofsbelijdenis van Nicea \n\n\n\nPsalm 16: 5 \n\n\n\nSchriftlezing: Markus 15: 21-41 \n\n\n\nPsalm 88: 1 en 11 \n\n\n\nPsalm 40: 3 en 4 \n\n\n\nPsalm 68: 13 en 16
URL:https://hervormdrouveenstaphorst.nl/agenda/ds-a-p-pors-goede-vrijdag/
LOCATION:Hervormde Kerk\, Oude Rijksweg 443\, Rouveen\, Overijssel\, 7954 GJ\, Nederland
CATEGORIES:Kerkdiensten
END:VEVENT
BEGIN:VEVENT
DTSTART;TZID=Europe/Amsterdam:20260331T193000
DTEND;TZID=Europe/Amsterdam:20260331T203000
DTSTAMP:20260420T103604
CREATED:20260316T064320Z
LAST-MODIFIED:20260316T064322Z
UID:12286-1774985400-1774989000@hervormdrouveenstaphorst.nl
SUMMARY:Stille week bijeenkomsten
DESCRIPTION:Stille week bijeenkomsten \n\n\n\nIn de week van Goede Vrijdag en voorafgaand aan Pasen hopen we met de gemeente een tweetal ‘stille week bijeenkomsten’ te houden. Dit zal zijn op D.V. maandag en dinsdag 30 en 31 maart. Beide bijeenkomsten beginnen om 19.30 uur. We hopen samen goede momenten van bezinning\, meditatie en overdenking te mogen hebben. U bent allen van harte uitgenodigd om ook op deze manier stil te staan bij het sterven en de opstanding van onze Heere Jezus Christus.
URL:https://hervormdrouveenstaphorst.nl/agenda/stille-week-bijeenkomsten-2/
CATEGORIES:Agenda
END:VEVENT
BEGIN:VEVENT
DTSTART;TZID=Europe/Amsterdam:20260330T193000
DTEND;TZID=Europe/Amsterdam:20260330T203000
DTSTAMP:20260420T103604
CREATED:20260316T064219Z
LAST-MODIFIED:20260316T064221Z
UID:12284-1774899000-1774902600@hervormdrouveenstaphorst.nl
SUMMARY:Stille week bijeenkomsten
DESCRIPTION:Stille week bijeenkomsten \n\n\n\nIn de week van Goede Vrijdag en voorafgaand aan Pasen hopen we met de gemeente een tweetal ‘stille week bijeenkomsten’ te houden. Dit zal zijn op D.V. maandag en dinsdag 30 en 31 maart. Beide bijeenkomsten beginnen om 19.30 uur. We hopen samen goede momenten van bezinning\, meditatie en overdenking te mogen hebben. U bent allen van harte uitgenodigd om ook op deze manier stil te staan bij het sterven en de opstanding van onze Heere Jezus Christus.
URL:https://hervormdrouveenstaphorst.nl/agenda/stille-week-bijeenkomsten/
CATEGORIES:Agenda
END:VEVENT
BEGIN:VEVENT
DTSTART;TZID=Europe/Amsterdam:20260329T140000
DTEND;TZID=Europe/Amsterdam:20260329T153000
DTSTAMP:20260420T103604
CREATED:20260305T212056Z
LAST-MODIFIED:20260327T114825Z
UID:12192-1774792800-1774798200@hervormdrouveenstaphorst.nl
SUMMARY:Ds. G.H. Vlijm\, Wezep
DESCRIPTION:Ps 150: 1\, 3 \n\n\n\nPs 116: 2\, 3 \n\n\n\nPs 116: 10 \n\n\n\nNum 21: 4-9\, Joh 4: 14-17 ‘Alleen zien!’     \n\n\n\nPs 66: 1\, 3\, 6 \n\n\n\nPs 118: 4\, 8 \n\n\n\nPs 68: 10
URL:https://hervormdrouveenstaphorst.nl/agenda/ds-g-h-vlijm-wezep/
LOCATION:Hervormd Dienstgebouw\, Oude Rijksweg 450\, Rouveen\, Overijssel\, 7954 GD\, Nederland
CATEGORIES:Kerkdiensten
END:VEVENT
BEGIN:VEVENT
DTSTART;TZID=Europe/Amsterdam:20260329T140000
DTEND;TZID=Europe/Amsterdam:20260329T153000
DTSTAMP:20260420T103604
CREATED:20260305T211931Z
LAST-MODIFIED:20260325T203531Z
UID:12188-1774792800-1774798200@hervormdrouveenstaphorst.nl
SUMMARY:Ds. R. Duiker
DESCRIPTION:Ps. 150: 1\, 3 \n\n\n\nPs. 138: 3 \n\n\n\nPs. 132: 7\, 8 \n\n\n\nPs. 93: 1\, 4 \n\n\n\nPs. 40: 5\, 8 \n\n\n\nPs. 107: 16\, 22 \n\n\n\nSchriftlezing: \n\n\n\nMattheüs 18: 21-35 \n\n\n\nhttps://www.heidelbergse-catechismus.nl/verlossing/zondag-24
URL:https://hervormdrouveenstaphorst.nl/agenda/ds-r-duiker-4/
LOCATION:Hervormde Kerk\, Oude Rijksweg 443\, Rouveen\, Overijssel\, 7954 GJ\, Nederland
CATEGORIES:Kerkdiensten
END:VEVENT
BEGIN:VEVENT
DTSTART;TZID=Europe/Amsterdam:20260329T093000
DTEND;TZID=Europe/Amsterdam:20260329T110000
DTSTAMP:20260420T103604
CREATED:20260305T212007Z
LAST-MODIFIED:20260325T203456Z
UID:12190-1774776600-1774782000@hervormdrouveenstaphorst.nl
SUMMARY:Ds. R. Duiker
DESCRIPTION:Ps. 93: 1\, 4 \n\n\n\nPs. 138: 3 \n\n\n\nWK 487: 1\, 2\, 3\, 4 \n\n\n\nPs. 93: 1\, 4 \n\n\n\nWK 157: 3\, 4\, 5 \n\n\n\nPs. 107: 16\, 22 \n\n\n\nSchriftlezing: \n\n\n\nMattheüs 18: 21-35 \n\n\n\nhttps://www.heidelbergse-catechismus.nl/verlossing/zondag-24
URL:https://hervormdrouveenstaphorst.nl/agenda/ds-r-duiker-5/
LOCATION:Hervormd Dienstgebouw\, Oude Rijksweg 450\, Rouveen\, Overijssel\, 7954 GD\, Nederland
CATEGORIES:Kerkdiensten
END:VEVENT
BEGIN:VEVENT
DTSTART;TZID=Europe/Amsterdam:20260329T093000
DTEND;TZID=Europe/Amsterdam:20260329T110000
DTSTAMP:20260420T103604
CREATED:20260305T211856Z
LAST-MODIFIED:20260326T182034Z
UID:12186-1774776600-1774782000@hervormdrouveenstaphorst.nl
SUMMARY:Ds. J.W. Hooydonk\, Oldebroek
DESCRIPTION:7de lijdenszondag \n\n\n\nVotum  ZingenPs. 23:1\, 2Wet / belijdenis  gebedPs. 88:11LezenLukas 9: 18 – 25Lukas 23: 23 – 33TekstLukas 23:26Zingen PreekPs. 22: 6\, 13Zingen GebedPs. 62:1\, 4Zingen ZegenPs. 72:10
URL:https://hervormdrouveenstaphorst.nl/agenda/ds-j-w-hooydonk-oldebroek/
LOCATION:Hervormde Kerk\, Oude Rijksweg 443\, Rouveen\, Overijssel\, 7954 GJ\, Nederland
CATEGORIES:Kerkdiensten
END:VEVENT
BEGIN:VEVENT
DTSTART;TZID=Europe/Amsterdam:20260325T200000
DTEND;TZID=Europe/Amsterdam:20260325T220000
DTSTAMP:20260420T103604
CREATED:20260316T064411Z
LAST-MODIFIED:20260323T195226Z
UID:12288-1774468800-1774476000@hervormdrouveenstaphorst.nl
SUMMARY:Eindavond verenigingen
DESCRIPTION:Eindavond verenigingen \n\n\n\nD.V. woensdag 25 maart houden we in het Dienstgebouw de eindavond van dit winterseizoen van de verenigingen. Voor deze avond is ds. E. de Mots uitgenodigd om te spreken over ‘De Geest in het Oude Testament’. Dit kwam afgelopen seizoen ook vaak aan de orde bij de mannenvereniging en de mannengespreksgroep. Een boeiend onderwerp waarvoor wij de hele gemeente van harte uitnodigen. Inloop vanaf 19.45 uur\, aanvang 20.00 uur.
URL:https://hervormdrouveenstaphorst.nl/agenda/eindavond-verenigingen/
END:VEVENT
BEGIN:VEVENT
DTSTART;TZID=Europe/Amsterdam:20260325T140000
DTEND;TZID=Europe/Amsterdam:20260325T163000
DTSTAMP:20260420T103604
CREATED:20260303T075205Z
LAST-MODIFIED:20260303T075752Z
UID:12158-1774447200-1774456200@hervormdrouveenstaphorst.nl
SUMMARY:Seniorencontactmiddag
DESCRIPTION:Seniorencontactmiddag \n\n\n\nOp D.V. woensdag 25 maart staat de middag in het teken van het lijden\, sterven en de opstanding van onze HEERE JEZUS CHRISTUS.Het thema deze middag is: ‘Het Lam op de troon\, staande als geslacht!’We worden uitgenodigd en opgeroepen om elke dag te leven uit de kracht van Jezus’ kruis en opstanding.U bent van harte welkom! \n\n\n\nTijd : 14:00 uur (inloop 13:45 uur)Waar : Dienstgebouw (ORW 450)Wanneer : Woensdag 25 maart \n\n\n\nAls vervoer een probleem voor u is\, dan kunt u bellen met dhr. Jan de Witte (06- 11586689). En dan wordt het vervoer geregeld! \n\n\n\nHartelijke groeten en tot ziens\, \n\n\n\nde Commissie
URL:https://hervormdrouveenstaphorst.nl/agenda/seniorencontactmiddag-2/
CATEGORIES:Agenda
END:VEVENT
BEGIN:VEVENT
DTSTART;TZID=Europe/Amsterdam:20260324T200000
DTEND;TZID=Europe/Amsterdam:20260324T210000
DTSTAMP:20260420T103604
CREATED:20260316T064053Z
LAST-MODIFIED:20260316T064055Z
UID:12282-1774382400-1774386000@hervormdrouveenstaphorst.nl
SUMMARY:Doopcatechese
DESCRIPTION:Bediening Heilige Doop \n\n\n\nDe eerstvolgende bediening van de Heilige Doop zal zijn op D.V. zondag 5 april. Er is gelegenheid tot doopaangifte op donderdag 19 maart om 20.00 uur in het Dienstgebouw. Wilt u bij de doopaangifte uw trouwboekje meenemen? \n\n\n\nDe doopcatechese zal plaatsvinden op dinsdagavond 24 maart.
URL:https://hervormdrouveenstaphorst.nl/agenda/doopcatechese/
CATEGORIES:Agenda
END:VEVENT
BEGIN:VEVENT
DTSTART;TZID=Europe/Amsterdam:20260322T140000
DTEND;TZID=Europe/Amsterdam:20260322T153000
DTSTAMP:20260420T103604
CREATED:20260305T211809Z
LAST-MODIFIED:20260319T192455Z
UID:12184-1774188000-1774193400@hervormdrouveenstaphorst.nl
SUMMARY:Ds. H. Born\, Hasselt
DESCRIPTION:Votum en groet \n\n\n\nPsalm 138 : 1 en 4 \n\n\n\nGeloofsbelijdenis \n\n\n\nPsalm 130 : 4 \n\n\n\nGebed \n\n\n\nSchriftlezing: Lukas 23 : 26 – 43 \n\n\n\nPsalm 38 : 15\, 18 en 22 \n\n\n\nPreek over Lukas 23 : 32 en 33 \n\n\n\nPsalm 22 : 8 en 12 \n\n\n\nDankgebed en voorbede \n\n\n\nPsalm 103 : 6 \n\n\n\nZegen.
URL:https://hervormdrouveenstaphorst.nl/agenda/ds-h-born-hasselt1/
LOCATION:Hervormd Dienstgebouw\, Oude Rijksweg 450\, Rouveen\, Overijssel\, 7954 GD\, Nederland
CATEGORIES:Kerkdiensten
END:VEVENT
END:VCALENDAR